BEGIN:VCALENDAR
VERSION:2.0
PRODID:www.gruene-ww.de
METHOD:PUBLISH
BEGIN:VTIMEZONE
TZID:Europe/Berlin
X-LIC-LOCATION:Europe/Berlin
BEGIN:DAYLIGHT
TZOFFSETFROM:+0100
TZOFFSETTO:+0200
TZNAME:CEST
DTSTART:19700329T020000
RRULE:FREQ=YEARLY;INTERVAL=1;BYDAY=-1SU;BYMONTH=3
END:DAYLIGHT
BEGIN:STANDARD
TZOFFSETFROM:+0200
TZOFFSETTO:+0100
TZNAME:CET
DTSTART:19701025T030000
RRULE:FREQ=YEARLY;INTERVAL=1;BYDAY=-1SU;BYMONTH=10
END:STANDARD
END:VTIMEZONE
BEGIN:VEVENT
UID:8b2227c043a4e91eaa0f653070745eac@www.gruene-ww.de
URL;VALUE=URI:https://www.gruene-ww.de/termine/%f0%9f%8c%b1-fruehlings-pf
 lanzentauschboerse-in-montabaur-%f0%9f%8c%b8/
LOCATION:b-05 Kunst- und Kulturzentrum, Im Stadtwald 2, 56410 Montabaur
SUMMARY:🌱 Frühlings-Pflanzentauschbörse in Montabaur 🌸
DESCRIPTION;ALTREP="data:text/html,%0A%3Ch2%20class%3D%22wp-block-heading
 %22%3E%3Cstrong%3ERaus%20aus%20dem%20Winterschlaf%20%E2%80%93%20rein%20in
 %20die%20Gartensaison%21%3C%2Fstrong%3E%3C%2Fh2%3E%0A%0A%0A%0A%3Cp%3EDer%
 20Fr%C3%BChling%20ist%20da%20%E2%80%93%20und%20mit%20ihm%20die%20perfekte
 %20Zeit%2C%20um%20Garten%20und%20Balkon%20neu%20zu%20begr%C3%BCnen%21%20B
 eim%20gro%C3%9Fen%20Pflanzentausch%20des%20B%C3%BCndnis%2090%2FDie%20Gr%C
 3%BCnen%20Ortsverbands%20Montabaur%20dreht%20sich%20alles%20ums%20Teilen%
 2C%20Entdecken%20und%20Ins-Gespr%C3%A4ch-Kommen.%3C%2Fp%3E%0A%0A%0A%0A%3C
 p%3EBringt%20mit%2C%20was%20bei%20euch%20diesen%20Fr%C3%BChling%20zu%20vi
 el%20geworden%20ist%3A%20Jungpflanzen%2C%20Stecklinge%2C%20Saatgut%20oder
 %20andere%20Garten%C3%BCbersch%C3%BCsse%20%E2%80%93%20und%20nehmt%20daf%C
 3%BCr%20etwas%20Neues%20mit%20nach%20Hause.%20Ganz%20unkompliziert%2C%20g
 anz%20kostenlos%20und%20ganz%20im%20Sinne%20einer%20lebendigen%2C%20gr%C3
 %BCnen%20Gemeinschaft.%3C%2Fp%3E%0A%0A%0A%0A%3Cp%3EOb%20erfahrene%20G%C3%
 A4rtner%3Cem%3Einnen%20oder%20frische%20Balkong%C3%A4rtner%3C%2Fem%3Einne
 n%20%E2%80%93%20hier%20ist%20jede%2Ar%20willkommen%21%20Tauscht%20nicht%2
 0nur%20Pflanzen%2C%20sondern%20auch%20Tipps%2C%20Erfahrungen%20und%20die%
 20Freude%20am%20Wachsenlassen.%3C%2Fp%3E%0A%0A%0A%0A%3Cp%3EKommt%20vorbei
 %20und%20lasst%20uns%20gemeinsam%20in%20die%20gr%C3%BCne%20Saison%20start
 en%21%20%F0%9F%8C%BF%3C%2Fp%3E%0A%0A%0A%0A%3Cp%3E%F0%9F%93%85%20Sonntag%2
 C%2010.%20Mai%202026%20%3C%2Fp%3E%0A%0A%0A%0A%3Cp%3E%F0%9F%95%9A%2011%3A0
 0%20%E2%80%93%2014%3A00%20Uhr%20%3C%2Fp%3E%0A%0A%0A%0A%3Cp%3E%F0%9F%93%8D
 %20b-05%20Kunst-%20und%20Kulturzentrum%2C%20Im%20Stadtwald%202%2C%20Monta
 baur%3C%2Fp%3E%0A%0A%0A%0A%3Cp%3E%3C%2Fp%3E%0A":Raus aus dem Winterschlaf
  – rein in die Gartensaison!\n\nDer Frühling ist da – und mit ihm di
 e perfekte Zeit\, um Garten und Balkon neu zu begrünen! Beim großen Pfl
 anzentausch des Bündnis 90/Die Grünen Ortsverbands Montabaur dreht sich
  alles ums Teilen\, Entdecken und Ins-Gespräch-Kommen.\n\nBringt mit\, w
 as bei euch diesen Frühling zu viel geworden ist: Jungpflanzen\, Steckli
 nge\, Saatgut oder andere Gartenüberschüsse – und nehmt dafür etwas 
 Neues mit nach Hause. Ganz unkompliziert\, ganz kostenlos und ganz im Sin
 ne einer lebendigen\, grünen Gemeinschaft.\n\nOb erfahrene Gärtnerinnen
  oder frische Balkongärtnerinnen – hier ist jede*r willkommen! Tauscht
  nicht nur Pflanzen\, sondern auch Tipps\, Erfahrungen und die Freude am 
 Wachsenlassen.\n\nKommt vorbei und lasst uns gemeinsam in die grüne Sais
 on starten! 🌿\n\n📅 Sonntag\, 10. Mai 2026\n\n🕚 11:00 – 14:00 U
 hr\n\n📍 b-05 Kunst- und Kulturzentrum\, Im Stadtwald 2\, Montabaur
CLASS:PUBLIC
DTSTART;TZID=Europe/Berlin:20260510T110000
DTEND;TZID=Europe/Berlin:20260510T140000
DTSTAMP:20260423T113533
END:VEVENT
END:VCALENDAR