BEGIN:VCALENDAR
VERSION:2.0
PRODID:www.gruene-ww.de
METHOD:PUBLISH
BEGIN:VTIMEZONE
TZID:Europe/Berlin
X-LIC-LOCATION:Europe/Berlin
BEGIN:DAYLIGHT
TZOFFSETFROM:+0100
TZOFFSETTO:+0200
TZNAME:CEST
DTSTART:19700329T020000
RRULE:FREQ=YEARLY;INTERVAL=1;BYDAY=-1SU;BYMONTH=3
END:DAYLIGHT
BEGIN:STANDARD
TZOFFSETFROM:+0200
TZOFFSETTO:+0100
TZNAME:CET
DTSTART:19701025T030000
RRULE:FREQ=YEARLY;INTERVAL=1;BYDAY=-1SU;BYMONTH=10
END:STANDARD
END:VTIMEZONE
BEGIN:VEVENT
UID:3a287076e42f7fae99ea5e177cecbf78@www.gruene-ww.de
URL;VALUE=URI:https://www.gruene-ww.de/termine/ag-verkehr/
LOCATION:
SUMMARY:AG Verkehr
DESCRIPTION;ALTREP="data:text/html,%0A%3Cp%3EOnline%20via%20Zoom.%20Um%20
 den%20link%20zu%20erhalten%2C%20bitte%20an%20ag-orga%40gruene-ww.de%20mai
 len.%3C%2Fp%3E%0A":Online via Zoom. Um den link zu erhalten\, bitte an ag
 -orga@gruene-ww.de mailen.
CLASS:PUBLIC
DTSTART;TZID=Europe/Berlin:20220627T200000
DTEND;TZID=Europe/Berlin:20220627T220000
DTSTAMP:20260420T100614
END:VEVENT
END:VCALENDAR