BEGIN:VCALENDAR
VERSION:2.0
PRODID:www.gruene-ww.de
METHOD:PUBLISH
BEGIN:VTIMEZONE
TZID:Europe/Berlin
X-LIC-LOCATION:Europe/Berlin
BEGIN:DAYLIGHT
TZOFFSETFROM:+0100
TZOFFSETTO:+0200
TZNAME:CEST
DTSTART:19700329T020000
RRULE:FREQ=YEARLY;INTERVAL=1;BYDAY=-1SU;BYMONTH=3
END:DAYLIGHT
BEGIN:STANDARD
TZOFFSETFROM:+0200
TZOFFSETTO:+0100
TZNAME:CET
DTSTART:19701025T030000
RRULE:FREQ=YEARLY;INTERVAL=1;BYDAY=-1SU;BYMONTH=10
END:STANDARD
END:VTIMEZONE
BEGIN:VEVENT
UID:5f7e825112e129a74ab88a511d0a3364@www.gruene-ww.de
URL;VALUE=URI:https://www.gruene-ww.de/termine/bunte-waffeln-fuer-einen-b
 unten-westerwald-westerburg/
LOCATION:Westerburg
SUMMARY:Bunte Waffeln für einen bunten Westerwald – Westerburg
DESCRIPTION;ALTREP="data:text/html,%0A%3Cfigure%20class%3D%22wp-block-ima
 ge%20size-full%22%3E%3Cimg%20src%3D%22https%3A%2F%2Fwww.gruene-ww.de%2Fwp
 -content%2Fuploads%2F2025%2F10%2Fgrafik-3.png%22%20alt%3D%22%22%20class%3
 D%22wp-image-5119%22%20%2F%3E%3C%2Ffigure%3E%0A%0A%0A%0A%3Cfigure%20class
 %3D%22wp-block-image%20size-full%22%3E%3Cimg%20src%3D%22https%3A%2F%2Fwww
 .gruene-ww.de%2Fwp-content%2Fuploads%2F2025%2F10%2Fgrafik-5.png%22%20alt%
 3D%22%22%20class%3D%22wp-image-5121%22%20%2F%3E%3C%2Ffigure%3E%0A":
CLASS:PUBLIC
DTSTART;TZID=Europe/Berlin:20251012T103000
DTEND;TZID=Europe/Berlin:20251012T120000
DTSTAMP:20260422T095948
END:VEVENT
END:VCALENDAR