BEGIN:VCALENDAR
VERSION:2.0
PRODID:www.gruene-ww.de
METHOD:PUBLISH
BEGIN:VTIMEZONE
TZID:Europe/Berlin
X-LIC-LOCATION:Europe/Berlin
BEGIN:DAYLIGHT
TZOFFSETFROM:+0100
TZOFFSETTO:+0200
TZNAME:CEST
DTSTART:19700329T020000
RRULE:FREQ=YEARLY;INTERVAL=1;BYDAY=-1SU;BYMONTH=3
END:DAYLIGHT
BEGIN:STANDARD
TZOFFSETFROM:+0200
TZOFFSETTO:+0100
TZNAME:CET
DTSTART:19701025T030000
RRULE:FREQ=YEARLY;INTERVAL=1;BYDAY=-1SU;BYMONTH=10
END:STANDARD
END:VTIMEZONE
BEGIN:VEVENT
UID:ee5950c387b6c42d0ab86e8652d1b17e@www.gruene-ww.de
URL;VALUE=URI:https://www.gruene-ww.de/termine/digitale-gremienvorsitzend
 enkonferenz/
LOCATION:
SUMMARY:Digitale Gremienvorsitzendenkonferenz
DESCRIPTION;ALTREP="data:text/html,Die%20Zugangsdaten%20werden%20per%20eM
 ail%2013%20Tage%20vorher%20zugesandt.":Die Zugangsdaten werden per eMail 
 13 Tage vorher zugesandt.
CLASS:PUBLIC
DTSTART;TZID=Europe/Berlin:20210624T190000
DTEND;TZID=Europe/Berlin:20210624T230000
DTSTAMP:20260420T100748
END:VEVENT
END:VCALENDAR