BEGIN:VCALENDAR
VERSION:2.0
PRODID:www.gruene-ww.de
METHOD:PUBLISH
BEGIN:VTIMEZONE
TZID:Europe/Berlin
X-LIC-LOCATION:Europe/Berlin
BEGIN:DAYLIGHT
TZOFFSETFROM:+0100
TZOFFSETTO:+0200
TZNAME:CEST
DTSTART:19700329T020000
RRULE:FREQ=YEARLY;INTERVAL=1;BYDAY=-1SU;BYMONTH=3
END:DAYLIGHT
BEGIN:STANDARD
TZOFFSETFROM:+0200
TZOFFSETTO:+0100
TZNAME:CET
DTSTART:19701025T030000
RRULE:FREQ=YEARLY;INTERVAL=1;BYDAY=-1SU;BYMONTH=10
END:STANDARD
END:VTIMEZONE
BEGIN:VEVENT
UID:657202444d1b0b4edf123b656a557ede@www.gruene-ww.de
URL;VALUE=URI:https://www.gruene-ww.de/termine/gruenes-stadtgespraech-mon
 tabaur/
LOCATION:Regionalbüro von Jutta Paulus (MEP), Vorderen Rebstock 4, Monta
 baur
SUMMARY:Grünes Stadtgespräch Montabaur
DESCRIPTION;ALTREP="data:text/html,%0A%3Cp%3EDer%20Ortsverband%20Montabau
 r%20vom%20B%C3%9CNDNIS%2090%2FDIE%20GR%C3%9CNEN%20l%C3%A4dt%20am%204.%20M
 ai%202024%20im%20Anschluss%20zur%20Raddemo%C2%A0%20%E2%80%9CKidical%20mas
 s%E2%80%9D%20interessierte%20B%C3%BCrger%20und%20B%C3%BCrgerinnen%20ab%20
 15%3A30%20Uhr%20zum%20Gr%C3%BCnen%20Stadtgespr%C3%A4ch%20in%20das%C2%A0%2
 0Regionalb%C3%BCro%20von%20Jutta%20Paulus%20%28MEP%29%20im%20Vorderen%20R
 ebstock%204%20ein.%20%3C%2Fp%3E%0A%0A%0A%0A%3Cp%3EBeim%20Gr%C3%BCnen%20St
 adtgespr%C3%A4ch%20k%C3%B6nnen%20sich%20Interessierte%20zum%20Austausch%2
 0treffen%20und%20bei%20einem%20Getr%C3%A4nk%20in%20lockerer%20Atmosph%C3%
 A4re%20neue%20Kontakte%20kn%C3%BCpfen%20und%20andere%20Perspektiven%20ken
 nenlernen.%3C%2Fp%3E%0A":Der Ortsverband Montabaur vom BÜNDNIS 90/DIE GR
 ÜNEN lädt am 4. Mai 2024 im Anschluss zur Raddemo  “Kidical mass” 
 interessierte Bürger und Bürgerinnen ab 15:30 Uhr zum Grünen Stadtgesp
 räch in das  Regionalbüro von Jutta Paulus (MEP) im Vorderen Rebstock 
 4 ein.\n\nBeim Grünen Stadtgespräch können sich Interessierte zum Aust
 ausch treffen und bei einem Getränk in lockerer Atmosphäre neue Kontakt
 e knüpfen und andere Perspektiven kennenlernen.
CLASS:PUBLIC
DTSTART;TZID=Europe/Berlin:20240504T153000
DTEND;TZID=Europe/Berlin:20240504T170000
DTSTAMP:20260420T115205
END:VEVENT
END:VCALENDAR