BEGIN:VCALENDAR
VERSION:2.0
PRODID:www.gruene-ww.de
METHOD:PUBLISH
BEGIN:VTIMEZONE
TZID:Europe/Berlin
X-LIC-LOCATION:Europe/Berlin
BEGIN:DAYLIGHT
TZOFFSETFROM:+0100
TZOFFSETTO:+0200
TZNAME:CEST
DTSTART:19700329T020000
RRULE:FREQ=YEARLY;INTERVAL=1;BYDAY=-1SU;BYMONTH=3
END:DAYLIGHT
BEGIN:STANDARD
TZOFFSETFROM:+0200
TZOFFSETTO:+0100
TZNAME:CET
DTSTART:19701025T030000
RRULE:FREQ=YEARLY;INTERVAL=1;BYDAY=-1SU;BYMONTH=10
END:STANDARD
END:VTIMEZONE
BEGIN:VEVENT
UID:788d9a42bc9a29bc6c995efea7e4fe4f@www.gruene-ww.de
URL;VALUE=URI:https://www.gruene-ww.de/termine/kmv-in-praesenz-3/
LOCATION:Hauptstraße 22, Dreisbach
SUMMARY:KMV in Präsenz
DESCRIPTION;ALTREP="data:text/html,%0A%3Cp%3EGr%C3%BCner%20Drachen%20Drei
 sbach%3C%2Fp%3E%0A":Grüner Drachen Dreisbach
CLASS:PUBLIC
DTSTART;TZID=Europe/Berlin:20220917T170000
DTEND;TZID=Europe/Berlin:20220917T200000
DTSTAMP:20260420T100434
END:VEVENT
END:VCALENDAR