BEGIN:VCALENDAR
VERSION:2.0
PRODID:www.gruene-ww.de
METHOD:PUBLISH
BEGIN:VTIMEZONE
TZID:Europe/Berlin
X-LIC-LOCATION:Europe/Berlin
BEGIN:DAYLIGHT
TZOFFSETFROM:+0100
TZOFFSETTO:+0200
TZNAME:CEST
DTSTART:19700329T020000
RRULE:FREQ=YEARLY;INTERVAL=1;BYDAY=-1SU;BYMONTH=3
END:DAYLIGHT
BEGIN:STANDARD
TZOFFSETFROM:+0200
TZOFFSETTO:+0100
TZNAME:CET
DTSTART:19701025T030000
RRULE:FREQ=YEARLY;INTERVAL=1;BYDAY=-1SU;BYMONTH=10
END:STANDARD
END:VTIMEZONE
BEGIN:VEVENT
UID:54a36f3b51f66a0622de5da37abf0fa4@www.gruene-ww.de
URL;VALUE=URI:https://www.gruene-ww.de/termine/kv-vorstandssitzung/
LOCATION:
SUMMARY:KV Vorstandssitzung
DESCRIPTION;ALTREP="data:text/html,%0A%3Cp%3ELink%20zu%20den%20Zugangsdat
 en%20in%20der%20gr%C3%BCnen%20Wolke%20f%C3%BCr%20alle%20Mitglieder%20des%
 20Kreisverbands%20Westerwald%3A%3C%2Fp%3E%0A%0A%0A%0A%3Cp%3E%3Ca%20href%3
 D%22https%3A%2F%2Fwolke.netzbegruenung.de%2Ff%2F43115389%22%3Ehttps%3A%2F
 %2Fwolke.netzbegruenung.de%2Ff%2F43115389%3C%2Fa%3E%3C%2Fp%3E%0A%0A%0A%0A
 %3Cp%3E%28oder%20per%20Anfrage%20%3Ca%20href%3D%22mailto%3Ainfo%40gruene-
 ww.de%22%3Eper%20eMail%3C%2Fa%3E%20%29%3C%2Fp%3E%0A%0A%0A%0A%3Cp%3E%3C%2F
 p%3E%0A":Link zu den Zugangsdaten in der grünen Wolke für alle Mitglied
 er des Kreisverbands Westerwald:\n\nhttps://wolke.netzbegruenung.de/f/431
 15389\n\n(oder per Anfrage per eMail )
CLASS:PUBLIC
DTSTART;TZID=Europe/Berlin:20220111T190000
DTEND;TZID=Europe/Berlin:20220111T220000
DTSTAMP:20260420T133310
END:VEVENT
END:VCALENDAR