BEGIN:VCALENDAR
VERSION:2.0
PRODID:www.gruene-ww.de
METHOD:PUBLISH
BEGIN:VTIMEZONE
TZID:Europe/Berlin
X-LIC-LOCATION:Europe/Berlin
BEGIN:DAYLIGHT
TZOFFSETFROM:+0100
TZOFFSETTO:+0200
TZNAME:CEST
DTSTART:19700329T020000
RRULE:FREQ=YEARLY;INTERVAL=1;BYDAY=-1SU;BYMONTH=3
END:DAYLIGHT
BEGIN:STANDARD
TZOFFSETFROM:+0200
TZOFFSETTO:+0100
TZNAME:CET
DTSTART:19701025T030000
RRULE:FREQ=YEARLY;INTERVAL=1;BYDAY=-1SU;BYMONTH=10
END:STANDARD
END:VTIMEZONE
BEGIN:VEVENT
UID:ae7dd2a3dc4a2d039723164623a65088@www.gruene-ww.de
URL;VALUE=URI:https://www.gruene-ww.de/termine/mitgliederversammlung-des-
 ortsverbands-montabaur/
LOCATION:
SUMMARY:Mitgliederversammlung des Ortsverbands Montabaur
DESCRIPTION;ALTREP="data:text/html,%0A%3Cp%3EDer%20OV%20Montabaur%20von%2
 0B%C3%BCndnis%2090%2FDie%20Gr%C3%BCnen%20l%C3%A4dt%20herzlich%20zur%20n%C
 3%A4chsten%20Mitgliederversammlung%20ein.%3C%2Fp%3E%0A%0A%0A%0A%3Cp%3E%F0
 %9F%93%8D%20Ort%20wird%20noch%20bekannt%20gegeben%3C%2Fp%3E%0A%0A%0A%0A%3
 Cp%3EAlle%20Interessierten%20sind%20willkommen.%20Eine%20Anmeldung%20ist%
 20nicht%20erforderlich%2C%20aber%20%C3%BCber%20eine%20kurze%20R%C3%BCckme
 ldung%20freuen%20wir%20uns%3A%20montabaur%40gruene-ww.de%3C%2Fp%3E%0A%0A%
 0A%0A%3Cp%3E%3C%2Fp%3E%0A":Der OV Montabaur von Bündnis 90/Die Grünen l
 ädt herzlich zur nächsten Mitgliederversammlung ein.\n\n📍 Ort wird n
 och bekannt gegeben\n\nAlle Interessierten sind willkommen. Eine Anmeldun
 g ist nicht erforderlich\, aber über eine kurze Rückmeldung freuen wir 
 uns: montabaur@gruene-ww.de
CLASS:PUBLIC
DTSTART;TZID=Europe/Berlin:20260612T190000
DTEND;TZID=Europe/Berlin:20260612T200000
DTSTAMP:20260422T134627
END:VEVENT
END:VCALENDAR