BEGIN:VCALENDAR
VERSION:2.0
PRODID:www.gruene-ww.de
METHOD:PUBLISH
BEGIN:VTIMEZONE
TZID:Europe/Berlin
X-LIC-LOCATION:Europe/Berlin
BEGIN:DAYLIGHT
TZOFFSETFROM:+0100
TZOFFSETTO:+0200
TZNAME:CEST
DTSTART:19700329T020000
RRULE:FREQ=YEARLY;INTERVAL=1;BYDAY=-1SU;BYMONTH=3
END:DAYLIGHT
BEGIN:STANDARD
TZOFFSETFROM:+0200
TZOFFSETTO:+0100
TZNAME:CET
DTSTART:19701025T030000
RRULE:FREQ=YEARLY;INTERVAL=1;BYDAY=-1SU;BYMONTH=10
END:STANDARD
END:VTIMEZONE
BEGIN:VEVENT
UID:1b6e556c14bde5fdac5f393b48c777bf@www.gruene-ww.de
URL;VALUE=URI:https://www.gruene-ww.de/termine/offenes-gruenes-buero-im-f
 ebruar/
LOCATION:BÜNDNIS 90/DIE GRÜNEN KV Westerwald, Vorderer Rebstock 4, 5641
 0 Montabaur
SUMMARY:Offenes Grünes Büro im Februar
DESCRIPTION;ALTREP="data:text/html,%0A%3Cp%3EAn%20jedem%20%3Cstrong%3Eers
 ten%20Sonntag%20im%20Monat%3C%2Fstrong%3E%20%C3%B6ffnen%20wir%20unser%20B
 %C3%BCro%20f%C3%BCr%20unser%20lockeres%20Austauschformat.%3Cbr%3EOhne%20T
 agesordnung%2C%20ohne%20Anmeldung%2C%20ohne%20Verpflichtungen.%3C%2Fp%3E%
 0A%0A%0A%0A%3Cp%3EDu%20bist%20Mitglied%20und%20hast%20Lust%20auf%20Gespr%
 C3%A4che%20jenseits%20formeller%20Sitzungen%3F%3Cbr%3EOder%20du%20bist%20
 neugierig%20auf%20die%20Gr%C3%BCnen%20vor%20Ort%20und%20m%C3%B6chtest%20u
 ns%20kennenlernen%3F%3Cbr%3EDann%20schau%20gern%20vorbei.%3C%2Fp%3E%0A%0A
 %0A%0A%3Cp%3EWir%20sind%20einfach%20da%20%E2%80%93%20zum%20Zuh%C3%B6ren%2
 C%20Diskutieren%2C%20Fragen%20stellen%20oder%20auch%20nur%20auf%20einen%2
 0kurzen%20Plausch%20%C3%BCber%20das%2C%20was%20dich%20politisch%20gerade%
 20besch%C3%A4ftigt.%20Ob%20lokale%20Themen%20oder%20das%20gro%C3%9Fe%20Ga
 nze%3A%20alles%20darf%2C%20nichts%20muss.%3C%2Fp%3E%0A%0A%0A%0A%3Cp%3EUns
 %20ist%20wichtig%2C%20dass%20sich%20alle%20wohlf%C3%BChlen%20k%C3%B6nnen%
 3A%3Cbr%3EWir%20m%C3%B6chten%20respektvoll%20miteinander%20ins%20Gespr%C3
 %A4ch%20kommen.%20%3Cstrong%3EMenschenfeindliche%2C%20diskriminierende%20
 oder%20herabw%C3%BCrdigende%20Aussagen%20haben%20bei%20uns%20keinen%20Pla
 tz.%3C%2Fstrong%3E%3C%2Fp%3E%0A%0A%0A%0A%3Cp%3E%F0%9F%93%8D%20Ort%3A%20Vo
 rderer%20Rebstock%204%2C%20Montabaur%3Cbr%3E%F0%9F%95%A1%20Zeit%3A%20ab%2
 018%3A30%20Uhr%3Cbr%3E%F0%9F%91%A5%20Offen%20f%C3%BCr%20Mitglieder%20und%
 20Interessierte%3C%2Fp%3E%0A%0A%0A%0A%3Cp%3EHinweis%3A%20Das%20offene%20B
 %C3%BCro%20ist%20%3Cstrong%3Ekeine%20Mitgliederversammlung%3C%2Fstrong%3E
 %20und%20es%20werden%20%3Cstrong%3Ekeine%20Beschl%C3%BCsse%20gefasst%3C%2
 Fstrong%3E.%3C%2Fp%3E%0A%0A%0A%0A%3Cp%3EWir%20freuen%20uns%20auf%20euch%2
 1%20%F0%9F%8C%BB%3C%2Fp%3E%0A%0A%0A%0A%3Cp%3E%3C%2Fp%3E%0A":An jedem erst
 en Sonntag im Monat öffnen wir unser Büro für unser lockeres Austausch
 format.Ohne Tagesordnung\, ohne Anmeldung\, ohne Verpflichtungen.\n\nDu b
 ist Mitglied und hast Lust auf Gespräche jenseits formeller Sitzungen?Od
 er du bist neugierig auf die Grünen vor Ort und möchtest uns kennenlern
 en?Dann schau gern vorbei.\n\nWir sind einfach da – zum Zuhören\, Disk
 utieren\, Fragen stellen oder auch nur auf einen kurzen Plausch über das
 \, was dich politisch gerade beschäftigt. Ob lokale Themen oder das gro
 ße Ganze: alles darf\, nichts muss.\n\nUns ist wichtig\, dass sich alle 
 wohlfühlen können:Wir möchten respektvoll miteinander ins Gespräch ko
 mmen. Menschenfeindliche\, diskriminierende oder herabwürdigende Aussage
 n haben bei uns keinen Platz.\n\n📍 Ort: Vorderer Rebstock 4\, Montabau
 r🕡 Zeit: ab 18:30 Uhr👥 Offen für Mitglieder und Interessierte\n\nH
 inweis: Das offene Büro ist keine Mitgliederversammlung und es werden ke
 ine Beschlüsse gefasst.\n\nWir freuen uns auf euch! 🌻
CLASS:PUBLIC
DTSTART;TZID=Europe/Berlin:20260201T183000
DTEND;TZID=Europe/Berlin:20260201T203000
DTSTAMP:20260420T095320
END:VEVENT
END:VCALENDAR