BEGIN:VCALENDAR
VERSION:2.0
PRODID:www.gruene-ww.de
METHOD:PUBLISH
BEGIN:VTIMEZONE
TZID:Europe/Berlin
X-LIC-LOCATION:Europe/Berlin
BEGIN:DAYLIGHT
TZOFFSETFROM:+0100
TZOFFSETTO:+0200
TZNAME:CEST
DTSTART:19700329T020000
RRULE:FREQ=YEARLY;INTERVAL=1;BYDAY=-1SU;BYMONTH=3
END:DAYLIGHT
BEGIN:STANDARD
TZOFFSETFROM:+0200
TZOFFSETTO:+0100
TZNAME:CET
DTSTART:19701025T030000
RRULE:FREQ=YEARLY;INTERVAL=1;BYDAY=-1SU;BYMONTH=10
END:STANDARD
END:VTIMEZONE
BEGIN:VEVENT
UID:9ec48c30cb96481478c4132d7d7983b5@www.gruene-ww.de
URL;VALUE=URI:https://www.gruene-ww.de/termine/offenes-gruenes-buero-im-j
 uni/
LOCATION:BÜNDNIS 90/DIE GRÜNEN KV Westerwald, Vorderer Rebstock 4, 5641
 0 Montabaur
SUMMARY:Offenes Grünes Büro im Juni
DESCRIPTION;ALTREP="data:text/html,%0A%3Cp%3EAm%20%3Cstrong%3Eersten%20So
 nntag%20im%20Juni%3C%2Fstrong%3E%20%C3%B6ffnen%20wir%20unser%20B%C3%BCro%
 20f%C3%BCr%20unser%20lockeres%20Austauschformat.%3Cbr%3EOhne%20Tagesordnu
 ng%2C%20ohne%20Anmeldung%2C%20ohne%20Verpflichtungen.%3C%2Fp%3E%0A%0A%0A%
 0A%3Cp%3EDu%20bist%20Mitglied%20und%20hast%20Lust%20auf%20Gespr%C3%A4che%
 20jenseits%20formeller%20Sitzungen%3F%3Cbr%3EOder%20du%20bist%20neugierig
 %20auf%20die%20Gr%C3%BCnen%20vor%20Ort%20und%20m%C3%B6chtest%20uns%20kenn
 enlernen%3F%3Cbr%3EDann%20schau%20gern%20vorbei.%3C%2Fp%3E%0A%0A%0A%0A%3C
 p%3EWir%20sind%20einfach%20da%20%E2%80%93%20zum%20Zuh%C3%B6ren%2C%20Disku
 tieren%2C%20Fragen%20stellen%20oder%20auch%20nur%20auf%20einen%20kurzen%2
 0Plausch%20%C3%BCber%20das%2C%20was%20dich%20politisch%20gerade%20besch%C
 3%A4ftigt.%20Ob%20lokale%20Themen%20oder%20das%20gro%C3%9Fe%20Ganze%3A%20
 alles%20darf%2C%20nichts%20muss.%3C%2Fp%3E%0A%0A%0A%0A%3Cp%3EUns%20ist%20
 wichtig%2C%20dass%20sich%20alle%20wohlf%C3%BChlen%20k%C3%B6nnen%3A%3Cbr%3
 EWir%20m%C3%B6chten%20respektvoll%20miteinander%20ins%20Gespr%C3%A4ch%20k
 ommen.%20%3Cstrong%3EMenschenfeindliche%2C%20diskriminierende%20oder%20he
 rabw%C3%BCrdigende%20Aussagen%20haben%20bei%20uns%20keinen%20Platz.%3C%2F
 strong%3E%3C%2Fp%3E%0A%0A%0A%0A%3Cp%3E%F0%9F%93%8D%20Ort%3A%20Vorderer%20
 Rebstock%204%2C%20Montabaur%3Cbr%3E%F0%9F%95%A1%20Zeit%3A%20ab%2018%3A30%
 20Uhr%3Cbr%3E%F0%9F%91%A5%20Offen%20f%C3%BCr%20Mitglieder%20und%20Interes
 sierte%3C%2Fp%3E%0A%0A%0A%0A%3Cp%3EHinweis%3A%20Das%20offene%20B%C3%BCro%
 20ist%20%3Cstrong%3Ekeine%20Mitgliederversammlung%3C%2Fstrong%3E%20und%20
 es%20werden%20%3Cstrong%3Ekeine%20Beschl%C3%BCsse%20gefasst%3C%2Fstrong%3
 E.%3C%2Fp%3E%0A%0A%0A%0A%3Cp%3EWir%20freuen%20uns%20auf%20euch%21%20%F0%9
 F%8C%BB%3C%2Fp%3E%0A%0A%0A%0A%3Cp%3E%3C%2Fp%3E%0A":Am ersten Sonntag im J
 uni öffnen wir unser Büro für unser lockeres Austauschformat.Ohne Tage
 sordnung\, ohne Anmeldung\, ohne Verpflichtungen.\n\nDu bist Mitglied und
  hast Lust auf Gespräche jenseits formeller Sitzungen?Oder du bist neugi
 erig auf die Grünen vor Ort und möchtest uns kennenlernen?Dann schau ge
 rn vorbei.\n\nWir sind einfach da – zum Zuhören\, Diskutieren\, Fragen
  stellen oder auch nur auf einen kurzen Plausch über das\, was dich poli
 tisch gerade beschäftigt. Ob lokale Themen oder das große Ganze: alles 
 darf\, nichts muss.\n\nUns ist wichtig\, dass sich alle wohlfühlen könn
 en:Wir möchten respektvoll miteinander ins Gespräch kommen. Menschenfei
 ndliche\, diskriminierende oder herabwürdigende Aussagen haben bei uns k
 einen Platz.\n\n📍 Ort: Vorderer Rebstock 4\, Montabaur🕡 Zeit: ab 18
 :30 Uhr👥 Offen für Mitglieder und Interessierte\n\nHinweis: Das offen
 e Büro ist keine Mitgliederversammlung und es werden keine Beschlüsse g
 efasst.\n\nWir freuen uns auf euch! 🌻
CLASS:PUBLIC
DTSTART;TZID=Europe/Berlin:20260607T183000
DTEND;TZID=Europe/Berlin:20260607T203000
DTSTAMP:20260419T140449
END:VEVENT
END:VCALENDAR