BEGIN:VCALENDAR
VERSION:2.0
PRODID:www.gruene-ww.de
METHOD:PUBLISH
BEGIN:VTIMEZONE
TZID:Europe/Berlin
X-LIC-LOCATION:Europe/Berlin
BEGIN:DAYLIGHT
TZOFFSETFROM:+0100
TZOFFSETTO:+0200
TZNAME:CEST
DTSTART:19700329T020000
RRULE:FREQ=YEARLY;INTERVAL=1;BYDAY=-1SU;BYMONTH=3
END:DAYLIGHT
BEGIN:STANDARD
TZOFFSETFROM:+0200
TZOFFSETTO:+0100
TZNAME:CET
DTSTART:19701025T030000
RRULE:FREQ=YEARLY;INTERVAL=1;BYDAY=-1SU;BYMONTH=10
END:STANDARD
END:VTIMEZONE
BEGIN:VEVENT
UID:91688211768c4789c168712259f31d00@www.gruene-ww.de
URL;VALUE=URI:https://www.gruene-ww.de/termine/offenes-gruenes-buero-im-m
 aerz/
LOCATION:BÜNDNIS 90/DIE GRÜNEN KV Westerwald, Vorderer Rebstock 4, 5641
 0 Montabaur
SUMMARY:Offenes Grünes Büro im März
DESCRIPTION;ALTREP="data:text/html,%0A%3Cp%3EDieses%20mal%20%C3%B6ffnen%2
 0wir%20unser%20B%C3%BCro%20f%C3%BCr%20unser%20lockeres%20Austauschformat%
 20am%20%3Cstrong%3ESonntag%2C%20den%208%20M%C3%A4rz%3C%2Fstrong%3E.%3Cbr%
 3EOhne%20Tagesordnung%2C%20ohne%20Anmeldung%2C%20ohne%20Verpflichtungen.%
 3C%2Fp%3E%0A%0A%0A%0A%3Cp%3EDu%20bist%20Mitglied%20und%20hast%20Lust%20au
 f%20Gespr%C3%A4che%20jenseits%20formeller%20Sitzungen%3F%3Cbr%3EOder%20du
 %20bist%20neugierig%20auf%20die%20Gr%C3%BCnen%20vor%20Ort%20und%20m%C3%B6
 chtest%20uns%20kennenlernen%3F%3Cbr%3EDann%20schau%20gern%20vorbei.%3C%2F
 p%3E%0A%0A%0A%0A%3Cp%3EWir%20sind%20einfach%20da%20%E2%80%93%20zum%20Zuh%
 C3%B6ren%2C%20Diskutieren%2C%20Fragen%20stellen%20oder%20auch%20nur%20auf
 %20einen%20kurzen%20Plausch%20%C3%BCber%20das%2C%20was%20dich%20politisch
 %20gerade%20besch%C3%A4ftigt.%20Ob%20lokale%20Themen%20oder%20das%20gro%C
 3%9Fe%20Ganze%3A%20alles%20darf%2C%20nichts%20muss.%3C%2Fp%3E%0A%0A%0A%0A
 %3Cp%3EUns%20ist%20wichtig%2C%20dass%20sich%20alle%20wohlf%C3%BChlen%20k%
 C3%B6nnen%3A%3Cbr%3EWir%20m%C3%B6chten%20respektvoll%20miteinander%20ins%
 20Gespr%C3%A4ch%20kommen.%20%3Cstrong%3EMenschenfeindliche%2C%20diskrimin
 ierende%20oder%20herabw%C3%BCrdigende%20Aussagen%20haben%20bei%20uns%20ke
 inen%20Platz.%3C%2Fstrong%3E%3C%2Fp%3E%0A%0A%0A%0A%3Cp%3E%F0%9F%93%8D%20O
 rt%3A%20Vorderer%20Rebstock%204%2C%20Montabaur%3Cbr%3E%F0%9F%95%A1%20Zeit
 %3A%20ab%2018%3A30%20Uhr%3Cbr%3E%F0%9F%91%A5%20Offen%20f%C3%BCr%20Mitglie
 der%20und%20Interessierte%3C%2Fp%3E%0A%0A%0A%0A%3Cp%3EHinweis%3A%20Das%20
 offene%20B%C3%BCro%20ist%20%3Cstrong%3Ekeine%20Mitgliederversammlung%3C%2
 Fstrong%3E%20und%20es%20werden%20%3Cstrong%3Ekeine%20Beschl%C3%BCsse%20ge
 fasst%3C%2Fstrong%3E.%3C%2Fp%3E%0A%0A%0A%0A%3Cp%3EWir%20freuen%20uns%20au
 f%20euch%21%20%F0%9F%8C%BB%3C%2Fp%3E%0A%0A%0A%0A%3Cp%3E%3C%2Fp%3E%0A":Die
 ses mal öffnen wir unser Büro für unser lockeres Austauschformat am So
 nntag\, den 8 März.Ohne Tagesordnung\, ohne Anmeldung\, ohne Verpflichtu
 ngen.\n\nDu bist Mitglied und hast Lust auf Gespräche jenseits formeller
  Sitzungen?Oder du bist neugierig auf die Grünen vor Ort und möchtest u
 ns kennenlernen?Dann schau gern vorbei.\n\nWir sind einfach da – zum Zu
 hören\, Diskutieren\, Fragen stellen oder auch nur auf einen kurzen Plau
 sch über das\, was dich politisch gerade beschäftigt. Ob lokale Themen 
 oder das große Ganze: alles darf\, nichts muss.\n\nUns ist wichtig\, das
 s sich alle wohlfühlen können:Wir möchten respektvoll miteinander ins 
 Gespräch kommen. Menschenfeindliche\, diskriminierende oder herabwürdig
 ende Aussagen haben bei uns keinen Platz.\n\n📍 Ort: Vorderer Rebstock 
 4\, Montabaur🕡 Zeit: ab 18:30 Uhr👥 Offen für Mitglieder und Intere
 ssierte\n\nHinweis: Das offene Büro ist keine Mitgliederversammlung und 
 es werden keine Beschlüsse gefasst.\n\nWir freuen uns auf euch! 🌻
CLASS:PUBLIC
DTSTART;TZID=Europe/Berlin:20260308T183000
DTEND;TZID=Europe/Berlin:20260308T203000
DTSTAMP:20260420T100817
END:VEVENT
END:VCALENDAR