BEGIN:VCALENDAR
VERSION:2.0
PRODID:www.gruene-ww.de
METHOD:PUBLISH
BEGIN:VTIMEZONE
TZID:Europe/Berlin
X-LIC-LOCATION:Europe/Berlin
BEGIN:DAYLIGHT
TZOFFSETFROM:+0100
TZOFFSETTO:+0200
TZNAME:CEST
DTSTART:19700329T020000
RRULE:FREQ=YEARLY;INTERVAL=1;BYDAY=-1SU;BYMONTH=3
END:DAYLIGHT
BEGIN:STANDARD
TZOFFSETFROM:+0200
TZOFFSETTO:+0100
TZNAME:CET
DTSTART:19701025T030000
RRULE:FREQ=YEARLY;INTERVAL=1;BYDAY=-1SU;BYMONTH=10
END:STANDARD
END:VTIMEZONE
BEGIN:VEVENT
UID:8b56b8c5877522a40323ff520ae645a7@www.gruene-ww.de
URL;VALUE=URI:https://www.gruene-ww.de/termine/ov-bad-marienberg/
LOCATION:
SUMMARY:Vorstandswahl OV Bad Marienberg
DESCRIPTION;ALTREP="data:text/html,%0A%3Cp%3EVorstandswahl%3C%2Fp%3E%0A":
 Vorstandswahl
CLASS:PUBLIC
DTSTART;TZID=Europe/Berlin:20220429
DTEND;TZID=Europe/Berlin:20220429
DTSTAMP:20260422T142454
END:VEVENT
END:VCALENDAR