BEGIN:VCALENDAR
VERSION:2.0
PRODID:www.gruene-ww.de
METHOD:PUBLISH
BEGIN:VTIMEZONE
TZID:Europe/Berlin
X-LIC-LOCATION:Europe/Berlin
BEGIN:DAYLIGHT
TZOFFSETFROM:+0100
TZOFFSETTO:+0200
TZNAME:CEST
DTSTART:19700329T020000
RRULE:FREQ=YEARLY;INTERVAL=1;BYDAY=-1SU;BYMONTH=3
END:DAYLIGHT
BEGIN:STANDARD
TZOFFSETFROM:+0200
TZOFFSETTO:+0100
TZNAME:CET
DTSTART:19701025T030000
RRULE:FREQ=YEARLY;INTERVAL=1;BYDAY=-1SU;BYMONTH=10
END:STANDARD
END:VTIMEZONE
BEGIN:VEVENT
UID:9073b87ef2c187ba94984d2d17471d66@www.gruene-ww.de
URL;VALUE=URI:https://www.gruene-ww.de/termine/ov-sitzung-hoehr-grenzhaus
 en/
LOCATION:ZOOM
SUMMARY:OV Sitzung Höhr-Grenzhausen
DESCRIPTION;ALTREP="data:text/html,%0A%3Cp%3EDie%20Zugangsdaten%20werden%
 20per%20eMail%20allen%20Mitgliedern%20sowie%20auf%20Anfrage%20an%20%3Ca%2
 0href%3D%22mailto%3Ainfo%40gruene-hg.de%22%3Einfo%40gruene-hg.de%3C%2Fa%3
 E%20zugesandt.%3C%2Fp%3E%0A":Die Zugangsdaten werden per eMail allen Mitg
 liedern sowie auf Anfrage an info@gruene-hg.de zugesandt.
CLASS:PUBLIC
DTSTART;TZID=Europe/Berlin:20211209T190000
DTEND;TZID=Europe/Berlin:20211209T220000
DTSTAMP:20260420T100726
END:VEVENT
END:VCALENDAR