BEGIN:VCALENDAR
VERSION:2.0
PRODID:www.gruene-ww.de
METHOD:PUBLISH
BEGIN:VTIMEZONE
TZID:Europe/Berlin
X-LIC-LOCATION:Europe/Berlin
BEGIN:DAYLIGHT
TZOFFSETFROM:+0100
TZOFFSETTO:+0200
TZNAME:CEST
DTSTART:19700329T020000
RRULE:FREQ=YEARLY;INTERVAL=1;BYDAY=-1SU;BYMONTH=3
END:DAYLIGHT
BEGIN:STANDARD
TZOFFSETFROM:+0200
TZOFFSETTO:+0100
TZNAME:CET
DTSTART:19701025T030000
RRULE:FREQ=YEARLY;INTERVAL=1;BYDAY=-1SU;BYMONTH=10
END:STANDARD
END:VTIMEZONE
BEGIN:VEVENT
UID:be5185ebfc46e56f851649305f8daf71@www.gruene-ww.de
URL;VALUE=URI:https://www.gruene-ww.de/termine/ov-sitzung-montabaur-3/
LOCATION:Online
SUMMARY:OV Sitzung Montabaur
DESCRIPTION;ALTREP="data:text/html,%0A%3Cp%3EOrt%3A%20Online%20-%20Link%2
 0an%20Mitglieder%20verschickt%20und%20auf%20Anfrage%20m%C3%B6glich%3C%2Fp
 %3E%0A%0A%0A%0A%3Cp%3ETagesordnung%3C%2Fp%3E%0A%0A%0A%0A%3Col%20class%3D%
 22wp-block-list%22%20type%3D%221%22%3E%0A%3Cli%3EBegr%C3%BC%C3%9Fung%3C%2
 Fli%3E%0A%0A%0A%0A%3Cli%3EFormalia%3C%2Fli%3E%0A%0A%0A%0A%3Cli%3EBerichte
 %20aus%20den%20Gremien%3C%2Fli%3E%0A%0A%0A%0A%3Cli%3EErste%20Ideen%20Komm
 unalwahl%3C%2Fli%3E%0A%0A%0A%0A%3Cli%3EVerschiedenes%20und%20Termine%3C%2
 Fli%3E%0A%3C%2Fol%3E%0A":Ort: Online - Link an Mitglieder verschickt und 
 auf Anfrage möglich\n\nTagesordnung\n\nBegrüßung\n\nFormalia\n\nBerich
 te aus den Gremien\n\nErste Ideen Kommunalwahl\n\nVerschiedenes und Termi
 ne
CLASS:PUBLIC
DTSTART;TZID=Europe/Berlin:20230310T180000
DTEND;TZID=Europe/Berlin:20230310T200000
DTSTAMP:20260422T095533
END:VEVENT
END:VCALENDAR