BEGIN:VCALENDAR
VERSION:2.0
PRODID:www.gruene-ww.de
METHOD:PUBLISH
BEGIN:VTIMEZONE
TZID:Europe/Berlin
X-LIC-LOCATION:Europe/Berlin
BEGIN:DAYLIGHT
TZOFFSETFROM:+0100
TZOFFSETTO:+0200
TZNAME:CEST
DTSTART:19700329T020000
RRULE:FREQ=YEARLY;INTERVAL=1;BYDAY=-1SU;BYMONTH=3
END:DAYLIGHT
BEGIN:STANDARD
TZOFFSETFROM:+0200
TZOFFSETTO:+0100
TZNAME:CET
DTSTART:19701025T030000
RRULE:FREQ=YEARLY;INTERVAL=1;BYDAY=-1SU;BYMONTH=10
END:STANDARD
END:VTIMEZONE
BEGIN:VEVENT
UID:ba9f4bb66e847dfa830edbd837286b4f@www.gruene-ww.de
URL;VALUE=URI:https://www.gruene-ww.de/termine/pflanzentauschboerse-im-b-
 05-montabaur/
LOCATION:B-05, Im Stadtwald 2, Montabaur
SUMMARY:Pflanzentauschbörse im B-05 Montabaur
DESCRIPTION;ALTREP="data:text/html,%0A%3Ch2%20class%3D%22wp-block-heading
 %22%3E%F0%9F%8C%B1%F0%9F%8C%BFHerzliche%20Einladung%20zur%20Pflanzentausc
 hb%C3%B6rse%20am%201.6.%F0%9F%8C%BF%F0%9F%8C%B1%3Cbr%3Ein%20Montabaur%20-
 %20B-05%20-%2014-16%20Uhr%3Cbr%3E%3C%2Fh2%3E%0A%0A%0A%0A%3Cfigure%20class
 %3D%22wp-block-image%20size-full%22%3E%3Cimg%20src%3D%22https%3A%2F%2Fwww
 .gruene-ww.de%2Fwp-content%2Fuploads%2F2025%2F05%2Fgrafik-1.png%22%20alt%
 3D%22%22%20class%3D%22wp-image-3499%22%20%2F%3E%3C%2Ffigure%3E%0A%0A%0A%0
 A%3Cp%3E%3C%2Fp%3E%0A%0A%0A%0A%3Cp%3E%3C%2Fp%3E%0A":🌱🌿Herzliche Ein
 ladung zur Pflanzentauschbörse am 1.6.🌿🌱in Montabaur - B-05 - 14-1
 6 Uhr
CLASS:PUBLIC
DTSTART;TZID=Europe/Berlin:20250601T140000
DTEND;TZID=Europe/Berlin:20250601T160000
DTSTAMP:20260422T095901
END:VEVENT
END:VCALENDAR