BEGIN:VCALENDAR
VERSION:2.0
PRODID:www.gruene-ww.de
METHOD:PUBLISH
BEGIN:VTIMEZONE
TZID:Europe/Berlin
X-LIC-LOCATION:Europe/Berlin
BEGIN:DAYLIGHT
TZOFFSETFROM:+0100
TZOFFSETTO:+0200
TZNAME:CEST
DTSTART:19700329T020000
RRULE:FREQ=YEARLY;INTERVAL=1;BYDAY=-1SU;BYMONTH=3
END:DAYLIGHT
BEGIN:STANDARD
TZOFFSETFROM:+0200
TZOFFSETTO:+0100
TZNAME:CET
DTSTART:19701025T030000
RRULE:FREQ=YEARLY;INTERVAL=1;BYDAY=-1SU;BYMONTH=10
END:STANDARD
END:VTIMEZONE
BEGIN:VEVENT
UID:f4b6769a86f279507fec13fb094c39cc@www.gruene-ww.de
URL;VALUE=URI:https://www.gruene-ww.de/termine/radtour-anlaesslich-des-au
 tofreien-gelbachtal-am-14-juli/
LOCATION:Altes Rathaus in Montabaur, Großer Markt 10, Montabaur
SUMMARY:Radtour anlässlich des  Autofreien Gelbachtal am 14. Juli
DESCRIPTION;ALTREP="data:text/html,%0A%3Cp%3EAnl%C3%A4sslich%20des%20auto
 freien%20Gelbachtals%20l%C3%A4dt%20der%20Ortsverband%20Montabaur%20B%C3%B
 Cndnis%2090%2F%20Die%20Gr%C3%BCnen%20am%20Sonntag%2C%20dem%2014.%20Juli%2
 C%20zur%20gemeinsamen%20Radtour%20von%20Montabaur%20nach%20Diez%20ein.%20
 %3C%2Fp%3E%0A%0A%0A%0A%3Cp%3EStart%20ist%20um%2010%20Uhr%20am%20Alten%20R
 athaus%20in%20Montabaur%20%28Gro%C3%9Fer%20Markt%2010%2C%2056410%20Montab
 aur%29.%20Vom%20Stadtzentrum%20aus%20fahren%20wir%20durch%20das%20Gelbach
 tal%20nach%20Ettersdorf%20%2840%20min%29.%20In%20Ettersdorf%20besuchen%20
 wir%20die%20St%C3%A4nde%20des%20ADFC%20und%20der%20Fahrradinitiative%2C%2
 0um%20%C3%BCber%20M%C3%B6glichkeiten%20zu%20sprechen%2C%20wie%20die%20Sit
 uation%20f%C3%BCr%20Radfahrende%20im%20Westerwald%20verbessert%20werden%2
 0kann.%20%3C%2Fp%3E%0A%0A%0A%0A%3Cp%3EGegen%2011%3A30%20Uhr%20brechen%20w
 ir%20vom%20Dorfgemeinschaftshaus%20%28%3Ca%20href%3D%22https%3A%2F%2Fmaps
 .app.goo.gl%2FD5mpBdDZWTqezceYA%22%3Ehttps%3A%2F%2Fmaps.app.goo.gl%2FD5mp
 BdDZWTqezceYA%3C%2Fa%3E%29%20%20in%20Richtung%20unseres%20n%C3%A4chsten%2
 0Stopps%20Wein%C3%A4hr%20auf%20%2840%20min%29.%20%3C%2Fp%3E%0A%0A%0A%0A%3
 Cp%3EIn%20Wein%C3%A4hr%20geht%20es%20gegen%2013%3A00%20Uhr%20von%20der%20
 Br%C3%BCcke%20%3Ca%20href%3D%22https%3A%2F%2Fmaps.app.goo.gl%2FP3dnixX1iJ
 7Rn5oe6%22%3Ehttps%3A%2F%2Fmaps.app.goo.gl%2FP3dnixX1iJ7Rn5oe6%3C%2Fa%3E%
 20%C3%BCber%20den%20Gelbach%20%20zur%20Bergwertung%20nach%20Obernhof%20we
 iter.%20In%20Obernhof%20folgen%20wir%20dem%20%20Lahnradwanderweg%2C%20bis
 %20wir%20gegen%C3%BCber%20dem%20Gabelstein-H%C3%B6lloch%20eine%20weitere%
 20Pause%20einlegen%20%281%20h%29.%20%3C%2Fp%3E%0A%0A%0A%0A%3Cp%3EUm%2014%
 3A30%20Uhr%20starten%20wir%20auf%20die%20letzte%20Etappe%20zum%20Bahnhof%
 20Diez%20Ost%20%281h%2020%20min%29.%20%3Cbr%3EVon%20dort%20fahren%20um%20
 15%3A59%2C%2016%3A58%2C%2018%3A01%20und%2019%3A04%20Uhr%20die%20HLB%20RB%
 2029%20in%20~40%20min%20zur%C3%BCck%20nach%20Montabaur.%20%3Cbr%3EDie%20T
 ickets%20zur%C3%BCck%20kosten%20maximal%209%2C35%C2%A0%E2%82%AC.%20Je%20n
 ach%20Anzahl%20der%20Mitfahrenden%20bietet%20sich%20ein%20Gruppenticket%2
 0an.%20%3Cbr%3E%3Cbr%3EJeder%20ist%20eingeladen%2C%20die%20gesamte%20Stre
 cke%20oder%20Teile%20davon%20mit%20uns%20zu%20fahren.%20Optional%20kann%2
 0eine%20Anmeldung%20an%20montabaur%40gruene-ww.de%20geschickt%20werden%2C
 %20damit%20wir%20%C3%BCber%20kurzfristige%20Plan%C3%A4nderungen%20informi
 eren%20k%C3%B6nnen.%3C%2Fp%3E%0A%0A%0A%0A%3Cfigure%20class%3D%22wp-block-
 image%20size-full%22%3E%3Cimg%20src%3D%22https%3A%2F%2Fwww.gruene-ww.de%2
 Fwp-content%2Fuploads%2F2024%2F06%2FStrecke-Autofreies-Gelbachtal-1.png%2
 2%20alt%3D%22%22%20class%3D%22wp-image-2659%22%20%2F%3E%3C%2Ffigure%3E%0A
 ":Anlässlich des autofreien Gelbachtals lädt der Ortsverband Montabaur 
 Bündnis 90/ Die Grünen am Sonntag\, dem 14. Juli\, zur gemeinsamen Radt
 our von Montabaur nach Diez ein.\n\nStart ist um 10 Uhr am Alten Rathaus 
 in Montabaur (Großer Markt 10\, 56410 Montabaur). Vom Stadtzentrum aus f
 ahren wir durch das Gelbachtal nach Ettersdorf (40 min). In Ettersdorf be
 suchen wir die Stände des ADFC und der Fahrradinitiative\, um über Mög
 lichkeiten zu sprechen\, wie die Situation für Radfahrende im Westerwald
  verbessert werden kann.\n\nGegen 11:30 Uhr brechen wir vom Dorfgemeinsch
 aftshaus (https://maps.app.goo.gl/D5mpBdDZWTqezceYA)  in Richtung unseres
  nächsten Stopps Weinähr auf (40 min).\n\nIn Weinähr geht es gegen 13:
 00 Uhr von der Brücke https://maps.app.goo.gl/P3dnixX1iJ7Rn5oe6 über de
 n Gelbach  zur Bergwertung nach Obernhof weiter. In Obernhof folgen wir d
 em  Lahnradwanderweg\, bis wir gegenüber dem Gabelstein-Hölloch eine we
 itere Pause einlegen (1 h).\n\nUm 14:30 Uhr starten wir auf die letzte Et
 appe zum Bahnhof Diez Ost (1h 20 min). Von dort fahren um 15:59\, 16:58\,
  18:01 und 19:04 Uhr die HLB RB 29 in ~40 min zurück nach Montabaur. Die
  Tickets zurück kosten maximal 9\,35 €. Je nach Anzahl der Mitfahrend
 en bietet sich ein Gruppenticket an. Jeder ist eingeladen\, die gesamte S
 trecke oder Teile davon mit uns zu fahren. Optional kann eine Anmeldung a
 n montabaur@gruene-ww.de geschickt werden\, damit wir über kurzfristige 
 Planänderungen informieren können.
CLASS:PUBLIC
DTSTART;TZID=Europe/Berlin:20240714T100000
DTEND;TZID=Europe/Berlin:20240714T180000
DTSTAMP:20260422T095953
END:VEVENT
END:VCALENDAR