BEGIN:VCALENDAR
VERSION:2.0
PRODID:www.gruene-ww.de
METHOD:PUBLISH
BEGIN:VTIMEZONE
TZID:Europe/Berlin
X-LIC-LOCATION:Europe/Berlin
BEGIN:DAYLIGHT
TZOFFSETFROM:+0100
TZOFFSETTO:+0200
TZNAME:CEST
DTSTART:19700329T020000
RRULE:FREQ=YEARLY;INTERVAL=1;BYDAY=-1SU;BYMONTH=3
END:DAYLIGHT
BEGIN:STANDARD
TZOFFSETFROM:+0200
TZOFFSETTO:+0100
TZNAME:CET
DTSTART:19701025T030000
RRULE:FREQ=YEARLY;INTERVAL=1;BYDAY=-1SU;BYMONTH=10
END:STANDARD
END:VTIMEZONE
BEGIN:VEVENT
UID:1c36e4a19b2f583950f91f7ab57bd105@www.gruene-ww.de
URL;VALUE=URI:https://www.gruene-ww.de/termine/sommerfest-der-gruenen-wes
 terwald/
LOCATION:B-05, Montabaur
SUMMARY:Sommerfest der Grünen Westerwald
DESCRIPTION;ALTREP="data:text/html,%0A%3Cfigure%20class%3D%22wp-block-ima
 ge%20size-large%22%3E%3Cimg%20src%3D%22https%3A%2F%2Fwww.gruene-ww.de%2Fw
 p-content%2Fuploads%2F2023%2F07%2F2023-07-08-Sommerfest-800x801.jpeg%22%2
 0alt%3D%22%22%20class%3D%22wp-image-2007%22%20%2F%3E%3C%2Ffigure%3E%0A%0A
 %0A%0A%3Cp%3E%3C%2Fp%3E%0A":
CLASS:PUBLIC
DTSTART;TZID=Europe/Berlin:20230708T150000
DTEND;TZID=Europe/Berlin:20230708T200000
DTSTAMP:20260420T095457
END:VEVENT
END:VCALENDAR