BEGIN:VCALENDAR
VERSION:2.0
PRODID:www.gruene-ww.de
METHOD:PUBLISH
BEGIN:VTIMEZONE
TZID:Europe/Berlin
X-LIC-LOCATION:Europe/Berlin
BEGIN:DAYLIGHT
TZOFFSETFROM:+0100
TZOFFSETTO:+0200
TZNAME:CEST
DTSTART:19700329T020000
RRULE:FREQ=YEARLY;INTERVAL=1;BYDAY=-1SU;BYMONTH=3
END:DAYLIGHT
BEGIN:STANDARD
TZOFFSETFROM:+0200
TZOFFSETTO:+0100
TZNAME:CET
DTSTART:19701025T030000
RRULE:FREQ=YEARLY;INTERVAL=1;BYDAY=-1SU;BYMONTH=10
END:STANDARD
END:VTIMEZONE
BEGIN:VEVENT
UID:5f5011237c697e03f05b10dc6b872435@www.gruene-ww.de
URL;VALUE=URI:https://www.gruene-ww.de/termine/stadtfruehstueck-in-montab
 aur-2/
LOCATION:Vor der Westerwald Bank, Kirchstraße 2-4, Montabaur
SUMMARY:Stadtfrühstück in Montabaur
DESCRIPTION;ALTREP="data:text/html,%0A%3Cp%3EDer%20Ortsverband%20von%20B%
 C3%9CNDNIS%2090%2FDIE%20GR%C3%9CNEN%20l%C3%A4dt%20alle%20B%C3%BCrgerinnen
 %20und%20B%C3%BCrger%20herzlich%20zu%20einem%20gemeinsamen%20Fr%C3%BChst%
 C3%BCck%20vor%20der%20Westerwald%20Bank%20ein.%20Diese%20Veranstaltung%20
 soll%20ein%20Zeichen%20der%20Gemeinschaft%20und%20des%20Austauschs%20setz
 en%20und%20bietet%20die%20Gelegenheit%2C%20in%20entspannter%20Atmosph%C3%
 A4re%20ins%20Gespr%C3%A4ch%20zu%20kommen.%3C%2Fp%3E%0A%0A%0A%0A%3Ch2%20cl
 ass%3D%22wp-block-heading%22%3EDetails%20zur%20Veranstaltung%3C%2Fh2%3E%0
 A%0A%0A%0A%3Cp%3EDatum%3A%2013.%20Juni%202026%3C%2Fp%3E%0A%0A%0A%0A%3Cp%3
 EUhrzeit%3A%2010%20%E2%80%93%2012%20Uhr%3C%2Fp%3E%0A%0A%0A%0A%3Cp%3EOrt%3
 A%20Vor%20der%20Westerwald%20Bank%2C%20Kirchstra%C3%9Fe%202-4%3C%2Fp%3E%0
 A%0A%0A%0A%3Cp%3EDas%20gemeinsame%20Fr%C3%BChst%C3%BCck%20soll%20eine%20P
 lattform%20bieten%2C%20um%20Ideen%20auszutauschen%20und%20gemeinsam%20%C3
 %BCber%20die%20Zukunft%20unserer%20Stadt%20zu%20diskutieren.%3C%2Fp%3E%0A
 %0A%0A%0A%3Cp%3EDas%20Fr%C3%BChst%C3%BCck%20wird%20mit%20regionalen%20Pro
 dukten%20bereitgestellt%20und%20ist%20f%C3%BCr%20alle%20Besucherinnen%20u
 nd%20Besucher%20kostenlos.%20Alle%20Interessierten%2C%20unabh%C3%A4ngig%2
 0von%20ihrer%20politischen%20Ausrichtung%2C%20sind%20herzlich%20eingelade
 n.%3C%2Fp%3E%0A%0A%0A%0A%3Ch2%20class%3D%22wp-block-heading%22%3EF%C3%BCr
 %20R%C3%BCckfragen%20stehen%20wir%20euch%20gerne%20zur%20Verf%C3%BCgung%3
 C%2Fh2%3E%0A%0A%0A%0A%3Cp%3EJannis%20Brugger%20und%20Miriam%20Richter%20S
 precher%2Ainnen%20des%20Ortsverband%20Montabaur%20%3Ca%20href%3D%22mailto
 %3Amontabaur%40gruene-ww.de%22%3Emontabaur%40gruene-ww.de%3C%2Fa%3E%3C%2F
 p%3E%0A%0A%0A%0A%3Cp%3EWir%20freuen%20uns%20auf%20Ihr%20Kommen%20und%20au
 f%20einen%20inspirierenden%20Morgen%20in%20unserer%20sch%C3%B6nen%20Stadt
 %21%3C%2Fp%3E%0A%0A%0A%0A%3Cp%3E%3C%2Fp%3E%0A":Der Ortsverband von BÜNDN
 IS 90/DIE GRÜNEN lädt alle Bürgerinnen und Bürger herzlich zu einem g
 emeinsamen Frühstück vor der Westerwald Bank ein. Diese Veranstaltung s
 oll ein Zeichen der Gemeinschaft und des Austauschs setzen und bietet die
  Gelegenheit\, in entspannter Atmosphäre ins Gespräch zu kommen.\n\nDet
 ails zur Veranstaltung\n\nDatum: 13. Juni 2026\n\nUhrzeit: 10 – 12 Uhr\
 n\nOrt: Vor der Westerwald Bank\, Kirchstraße 2-4\n\nDas gemeinsame Frü
 hstück soll eine Plattform bieten\, um Ideen auszutauschen und gemeinsam
  über die Zukunft unserer Stadt zu diskutieren.\n\nDas Frühstück wird 
 mit regionalen Produkten bereitgestellt und ist für alle Besucherinnen u
 nd Besucher kostenlos. Alle Interessierten\, unabhängig von ihrer politi
 schen Ausrichtung\, sind herzlich eingeladen.\n\nFür Rückfragen stehen 
 wir euch gerne zur Verfügung\n\nJannis Brugger und Miriam Richter Sprech
 er*innen des Ortsverband Montabaur montabaur@gruene-ww.de\n\nWir freuen u
 ns auf Ihr Kommen und auf einen inspirierenden Morgen in unserer schönen
  Stadt!
CLASS:PUBLIC
DTSTART;TZID=Europe/Berlin:20260613T100000
DTEND;TZID=Europe/Berlin:20260613T120000
DTSTAMP:20260422T134252
END:VEVENT
END:VCALENDAR