BEGIN:VCALENDAR
VERSION:2.0
PRODID:www.gruene-ww.de
METHOD:PUBLISH
BEGIN:VTIMEZONE
TZID:Europe/Berlin
X-LIC-LOCATION:Europe/Berlin
BEGIN:DAYLIGHT
TZOFFSETFROM:+0100
TZOFFSETTO:+0200
TZNAME:CEST
DTSTART:19700329T020000
RRULE:FREQ=YEARLY;INTERVAL=1;BYDAY=-1SU;BYMONTH=3
END:DAYLIGHT
BEGIN:STANDARD
TZOFFSETFROM:+0200
TZOFFSETTO:+0100
TZNAME:CET
DTSTART:19701025T030000
RRULE:FREQ=YEARLY;INTERVAL=1;BYDAY=-1SU;BYMONTH=10
END:STANDARD
END:VTIMEZONE
BEGIN:VEVENT
UID:9058044b9b956681a5987a55d0553822@www.gruene-ww.de
URL;VALUE=URI:https://www.gruene-ww.de/termine/treffen-der-ag-rad-in-mont
 abaur/
LOCATION:Geschäftsstelle in Montabaur, Vorderer Rebstock 4, 56410 Montab
 aur
SUMMARY:Treffen der AG-Rad in Montabaur
DESCRIPTION;ALTREP="data:text/html,%0A%3Cp%3EInteressierte%20sind%20herzl
 ich%20willkommen%21%3Cbr%3EGerne%20eine%20kurze%20Mail%20an%20montabaur%4
 0gruene-ww.de%20schreiben%2C%20damit%20wir%20bei%20kurzfristigen%20%C3%84
 nderungen%20Bescheid%20sagen%20k%C3%B6nnen.%20%20%20%3C%2Fp%3E%0A%0A%0A%0
 A%3Ch2%20class%3D%22wp-block-heading%22%3EWorum%20geht%20es%3F%3C%2Fh2%3E
 %0A%0A%0A%0A%3Cp%3EWir%20werden%20das%20Alltagsradwegekonzept%20des%20Wes
 terwaldkreises%20besprechen%20und%20diskutieren%20welche%20der%20vorgesch
 lagenen%20Ma%C3%9Fnahmen%20in%20den%20Fokus%20der%20AG%20Rad%20gestellt%2
 0werden%20soll.%20%3C%2Fp%3E%0A%0A%0A%0A%3Ch2%20class%3D%22wp-block-headi
 ng%22%3EWo%20kann%20ich%20die%20Unterlagen%20finden%3F%3C%2Fh2%3E%0A%0A%0
 A%0A%3Cp%3EDas%20Alltagsradwegekonzept%20%28320%20MB%29%20kann%20auf%20di
 eser%20privat%20gehosteten%20Cloud%20heruntergeladen%20werden%20%3Ca%20hr
 ef%3D%22https%3A%2F%2Fnextcloud.klokker.de%2Findex.php%2Fs%2FZECdW8sBdeDL
 c4M%22%3Ehttps%3A%2F%2Fnextcloud.klokker.de%2Findex.php%2Fs%2FZECdW8sBdeD
 Lc4M%3C%2Fa%3E%20.%20Nach%20dem%20Treffen%20wird%20der%20Link%20deaktivie
 rt.%3C%2Fp%3E%0A%0A%0A%0A%3Cp%3E%3C%2Fp%3E%0A":Interessierte sind herzlic
 h willkommen!Gerne eine kurze Mail an montabaur@gruene-ww.de schreiben\, 
 damit wir bei kurzfristigen Änderungen Bescheid sagen können.\n\nWorum 
 geht es?\n\nWir werden das Alltagsradwegekonzept des Westerwaldkreises be
 sprechen und diskutieren welche der vorgeschlagenen Maßnahmen in den Fok
 us der AG Rad gestellt werden soll.\n\nWo kann ich die Unterlagen finden?
 \n\nDas Alltagsradwegekonzept (320 MB) kann auf dieser privat gehosteten 
 Cloud heruntergeladen werden https://nextcloud.klokker.de/index.php/s/ZEC
 dW8sBdeDLc4M . Nach dem Treffen wird der Link deaktiviert.
CLASS:PUBLIC
DTSTART;TZID=Europe/Berlin:20250117T190000
DTEND;TZID=Europe/Berlin:20250117T210000
DTSTAMP:20260420T100044
END:VEVENT
END:VCALENDAR