BEGIN:VCALENDAR
VERSION:2.0
PRODID:www.gruene-ww.de
METHOD:PUBLISH
BEGIN:VTIMEZONE
TZID:Europe/Berlin
X-LIC-LOCATION:Europe/Berlin
BEGIN:DAYLIGHT
TZOFFSETFROM:+0100
TZOFFSETTO:+0200
TZNAME:CEST
DTSTART:19700329T020000
RRULE:FREQ=YEARLY;INTERVAL=1;BYDAY=-1SU;BYMONTH=3
END:DAYLIGHT
BEGIN:STANDARD
TZOFFSETFROM:+0200
TZOFFSETTO:+0100
TZNAME:CET
DTSTART:19701025T030000
RRULE:FREQ=YEARLY;INTERVAL=1;BYDAY=-1SU;BYMONTH=10
END:STANDARD
END:VTIMEZONE
BEGIN:VEVENT
UID:925d06b4234b2f810f8045eda84e6a28@www.gruene-ww.de
URL;VALUE=URI:https://www.gruene-ww.de/termine/versammlung-des-ov-montaba
 ur-5/
LOCATION:Dorfbrunnen, Bachstraße 1, Niederelbert
SUMMARY:Versammlung des OV-Montabaur
DESCRIPTION;ALTREP="data:text/html,%0A%3Cp%3EInteressierte%20sind%20herzl
 ich%20willkommen%21%3Cbr%3EGerne%20eine%20kurze%20Mail%20an%20montabaur%4
 0gruene-ww.de%20schreiben%2C%20damit%20wir%20bei%20kurzfristigen%20%C3%84
 nderungen%20Bescheid%20sagen%20k%C3%B6nnen.%20%20%20%3C%2Fp%3E%0A%0A%0A%0
 A%3Ch2%20class%3D%22wp-block-heading%22%3EThemen%3A%20%3C%2Fh2%3E%0A%0A%0
 A%0A%3Cul%20class%3D%22wp-block-list%22%3E%0A%3Cli%3EBegr%C3%BC%C3%9Fung%
 20%26amp%3B%20Formalia%3C%2Fli%3E%0A%0A%0A%0A%3Cli%3EBericht%20Wahlkampft
 eam%3C%2Fli%3E%0A%0A%0A%0A%3Cli%3EBerichte%20Kreistag%2C%20Verbandsgemein
 derat%2C%20Stadtrat%20Montabaur%20und%20weiterer%20Gremien%3C%2Fli%3E%0A%
 0A%0A%0A%3Cli%3EAktivit%C3%A4ten%20nach%20der%20Wahl%20und%20Gr%C3%BCnes%
 20Stadtgespr%C3%A4ch%3C%2Fli%3E%0A%0A%0A%0A%3Cli%3EUmgang%20mit%20Pressem
 itteilungen%3C%2Fli%3E%0A%0A%0A%0A%3Cli%3EBesprechung%20Wahlparty%20%3C%2
 Fli%3E%0A%0A%0A%0A%3Cli%3ETermin%20n%C3%A4chste%20OV%3C%2Fli%3E%0A%0A%0A%
 0A%3Cli%3ETermine%20und%20Verschiedenes%3C%2Fli%3E%0A%3C%2Ful%3E%0A%0A%0A
 %0A%3Cp%3E%3C%2Fp%3E%0A":Interessierte sind herzlich willkommen!Gerne ein
 e kurze Mail an montabaur@gruene-ww.de schreiben\, damit wir bei kurzfris
 tigen Änderungen Bescheid sagen können.\n\nThemen:\n\nBegrüßung & For
 malia\n\nBericht Wahlkampfteam\n\nBerichte Kreistag\, Verbandsgemeinderat
 \, Stadtrat Montabaur und weiterer Gremien\n\nAktivitäten nach der Wahl 
 und Grünes Stadtgespräch\n\nUmgang mit Pressemitteilungen\n\nBesprechun
 g Wahlparty\n\nTermin nächste OV\n\nTermine und Verschiedenes
CLASS:PUBLIC
DTSTART;TZID=Europe/Berlin:20240607T190000
DTEND;TZID=Europe/Berlin:20240607T210000
DTSTAMP:20260422T095630
END:VEVENT
END:VCALENDAR