BEGIN:VCALENDAR
VERSION:2.0
PRODID:www.gruene-ww.de
METHOD:PUBLISH
BEGIN:VTIMEZONE
TZID:Europe/Berlin
X-LIC-LOCATION:Europe/Berlin
BEGIN:DAYLIGHT
TZOFFSETFROM:+0100
TZOFFSETTO:+0200
TZNAME:CEST
DTSTART:19700329T020000
RRULE:FREQ=YEARLY;INTERVAL=1;BYDAY=-1SU;BYMONTH=3
END:DAYLIGHT
BEGIN:STANDARD
TZOFFSETFROM:+0200
TZOFFSETTO:+0100
TZNAME:CET
DTSTART:19701025T030000
RRULE:FREQ=YEARLY;INTERVAL=1;BYDAY=-1SU;BYMONTH=10
END:STANDARD
END:VTIMEZONE
BEGIN:VEVENT
UID:103ad19ab9de0f2e151b66eefa3b49a4@www.gruene-ww.de
URL;VALUE=URI:https://www.gruene-ww.de/termine/versammlung-des-ov-montaba
 ur-8/
LOCATION:Dorfbrunnen, Bachstraße 1, Niederelbert
SUMMARY:Versammlung des OV-Montabaur
DESCRIPTION;ALTREP="data:text/html,%0A%3Cp%3EInteressierte%20sind%20herzl
 ich%20willkommen%21%3Cbr%3EGerne%20eine%20kurze%20Mail%20an%20montabaur%4
 0gruene-ww.de%20schreiben%2C%20damit%20wir%20bei%20kurzfristigen%20%C3%84
 nderungen%20Bescheid%20sagen%20k%C3%B6nnen.%20%20%20%3C%2Fp%3E%0A%0A%0A%0
 A%3Ch2%20class%3D%22wp-block-heading%22%3EThemen%3A%20%3C%2Fh2%3E%0A%0A%0
 A%0A%3Cul%20class%3D%22wp-block-list%22%3E%0A%3Cli%3Efolgen%20einige%20Wo
 chen%20vor%20dem%20Termin%3C%2Fli%3E%0A%3C%2Ful%3E%0A%0A%0A%0A%3Cp%3E%3C%
 2Fp%3E%0A":Interessierte sind herzlich willkommen!Gerne eine kurze Mail a
 n montabaur@gruene-ww.de schreiben\, damit wir bei kurzfristigen Änderun
 gen Bescheid sagen können.\n\nThemen:\n\nfolgen einige Wochen vor dem Te
 rmin
CLASS:PUBLIC
DTSTART;TZID=Europe/Berlin:20240920T190000
DTEND;TZID=Europe/Berlin:20240920T210000
DTSTAMP:20260420T114201
END:VEVENT
END:VCALENDAR