BEGIN:VCALENDAR
VERSION:2.0
PRODID:www.gruene-ww.de
METHOD:PUBLISH
BEGIN:VTIMEZONE
TZID:Europe/Berlin
X-LIC-LOCATION:Europe/Berlin
BEGIN:DAYLIGHT
TZOFFSETFROM:+0100
TZOFFSETTO:+0200
TZNAME:CEST
DTSTART:19700329T020000
RRULE:FREQ=YEARLY;INTERVAL=1;BYDAY=-1SU;BYMONTH=3
END:DAYLIGHT
BEGIN:STANDARD
TZOFFSETFROM:+0200
TZOFFSETTO:+0100
TZNAME:CET
DTSTART:19701025T030000
RRULE:FREQ=YEARLY;INTERVAL=1;BYDAY=-1SU;BYMONTH=10
END:STANDARD
END:VTIMEZONE
BEGIN:VEVENT
UID:758e898d413785eb8a30a87f59f882df@www.gruene-ww.de
URL;VALUE=URI:https://www.gruene-ww.de/termine/waffelfruehstueck-in-monta
 baur/
LOCATION:Konrad-Adenauer-Platz, Montabaur
SUMMARY:Waffelfrühstück in Montabaur
DESCRIPTION;ALTREP="data:text/html,%0A%3Cp%3EDer%20Ortsverband%20von%20B%
 C3%9CNDNIS%2090%2FDIE%20GR%C3%9CNEN%20l%C3%A4dt%20ein%20zum%20gemeinsamen
 %20Waffelfr%C3%BChst%C3%BCck%20in%20der%20Altstadt%20von%20Montabaur.%3C%
 2Fp%3E%0A%0A%0A%0A%3Cp%3EMontabaur%2C%2013.%20September%202025%20%E2%80%9
 3%20Der%20Ortsverband%20von%20B%C3%9CNDNIS%2090%2FDIE%20GR%C3%9CNEN%20l%C
 3%A4dt%20alle%20B%C3%BCrgerinnen%20und%20B%C3%BCrger%20herzlich%20zu%20ei
 nem%20gemeinsamen%20Waffelfr%C3%BChst%C3%BCck%20auf%20dem%20Konrad-Adenau
 er-Platz%20ein.%20Diese%20Veranstaltung%20soll%20ein%20Zeichen%20der%20Ge
 meinschaft%20und%20des%20Austauschs%20setzen%20und%20bietet%20die%20Geleg
 enheit%2C%20in%20entspannter%20Atmosph%C3%A4re%20ins%20Gespr%C3%A4ch%20zu
 %20kommen.%3C%2Fp%3E%0A%0A%0A%0A%3Cp%3EDetails%20zur%20Veranstaltung%3A%3
 C%2Fp%3E%0A%0A%0A%0A%3Cp%3E%C2%A0%C2%A0%C2%A0%C2%A0Datum%3A%C2%A0%2013.%2
 0September%202025%3C%2Fp%3E%0A%0A%0A%0A%3Cp%3E%26nbsp%3B%26nbsp%3B%26nbsp
 %3B%26nbsp%3BUhrzeit%3A%2010%20-%2012%20Uhr%3C%2Fp%3E%0A%0A%0A%0A%3Cp%3E%
 C2%A0%C2%A0%C2%A0%C2%A0Ort%3A%20Konrad-Adenauer-Platz%3C%2Fp%3E%0A%0A%0A%
 0A%3Cp%3EDas%20gemeinsame%20Waffelfr%C3%BChst%C3%BCck%20soll%20eine%20Pla
 ttform%20bieten%2C%20um%20Ideen%20auszutauschen%20und%20gemeinsam%20%C3%B
 Cber%20die%20Zukunft%20unserer%20Stadt%20zu%20diskutieren.%3C%2Fp%3E%0A%0
 A%0A%0A%3Cp%3EDas%20Fr%C3%BChst%C3%BCck%20wird%20mit%20regionalen%20Produ
 kten%20bereitgestellt%20und%20ist%20f%C3%BCr%20alle%20Besucherinnen%20und
 %20Besucher%20kostenlos.%20Alle%20Interessierten%2C%20unabh%C3%A4ngig%20v
 on%20ihrer%20politischen%20Ausrichtung%2C%20sind%20herzlich%20eingeladen.
 %3C%2Fp%3E%0A%0A%0A%0A%3Cp%3EF%C3%BCr%20R%C3%BCckfragen%20stehen%20Ihnen%
 20gerne%20zur%20Verf%C3%BCgung%3A%3C%2Fp%3E%0A%0A%0A%0A%3Cp%3EJannis%20Br
 ugger%20und%20Miriam%20Richter%26nbsp%3B%3C%2Fp%3E%0A%0A%0A%0A%3Cp%3ESpre
 cher%2Ainnen%20des%20Ortsverband%20Montabaur%3C%2Fp%3E%0A%0A%0A%0A%3Cp%3E
 montabaur%40gruene-ww.de%3C%2Fp%3E%0A%0A%0A%0A%3Cp%3EWir%20freuen%20uns%2
 0auf%20Ihr%20Kommen%20und%20auf%20einen%20inspirierenden%20Morgen%20in%20
 unserer%20sch%C3%B6nen%20Stadt%21%3C%2Fp%3E%0A":Der Ortsverband von BÜND
 NIS 90/DIE GRÜNEN lädt ein zum gemeinsamen Waffelfrühstück in der Alt
 stadt von Montabaur.\n\nMontabaur\, 13. September 2025 – Der Ortsverban
 d von BÜNDNIS 90/DIE GRÜNEN lädt alle Bürgerinnen und Bürger herzlic
 h zu einem gemeinsamen Waffelfrühstück auf dem Konrad-Adenauer-Platz ei
 n. Diese Veranstaltung soll ein Zeichen der Gemeinschaft und des Austausc
 hs setzen und bietet die Gelegenheit\, in entspannter Atmosphäre ins Ges
 präch zu kommen.\n\nDetails zur Veranstaltung:\n\n    Datum:  13. S
 eptember 2025\n\n    Uhrzeit: 10 - 12 Uhr\n\n    Ort: Konrad-Aden
 auer-Platz\n\nDas gemeinsame Waffelfrühstück soll eine Plattform bieten
 \, um Ideen auszutauschen und gemeinsam über die Zukunft unserer Stadt z
 u diskutieren.\n\nDas Frühstück wird mit regionalen Produkten bereitges
 tellt und ist für alle Besucherinnen und Besucher kostenlos. Alle Intere
 ssierten\, unabhängig von ihrer politischen Ausrichtung\, sind herzlich 
 eingeladen.\n\nFür Rückfragen stehen Ihnen gerne zur Verfügung:\n\nJan
 nis Brugger und Miriam Richter \n\nSprecher*innen des Ortsverband Montab
 aur\n\nmontabaur@gruene-ww.de\n\nWir freuen uns auf Ihr Kommen und auf ei
 nen inspirierenden Morgen in unserer schönen Stadt!
CLASS:PUBLIC
DTSTART;TZID=Europe/Berlin:20250913T100000
DTEND;TZID=Europe/Berlin:20250913T120000
DTSTAMP:20260422T095828
END:VEVENT
END:VCALENDAR